BEGIN:VCALENDAR
VERSION:2.0
PRODID:-//jEvents 1.5 for Joomla//EN
CALSCALE:GREGORIAN
METHOD:PUBLISH
BEGIN:VEVENT

UID:2dab156359df8c53ba976d8b31228348
CATEGORIES:Default
SUMMARY:Chapter Meeting & Rehearsal
LOCATION:1st Protestant Church
DESCRIPTION;ENCODING=QUOTED-PRINTABLE:
CONTACT:830-507-3281

DTSTAMP:20260423T091350Z
DTSTART:20210707T000000Z
DTEND:20210707T013000Z
SEQUENCE:0
RRULE:FREQ=WEEKLY;COUNT=25;INTERVAL=1;BYDAY=TU
EXDATE:20210811T000000Z,20211124T010000Z,20211208T010000Z
TRANSP:OPAQUE
END:VEVENT
END:VCALENDAR