BEGIN:VCALENDAR
VERSION:2.0
PRODID:-//jEvents 1.5 for Joomla//EN
CALSCALE:GREGORIAN
METHOD:PUBLISH
BEGIN:VEVENT

UID:fc11629137fa39e735deeb5b286f0c54
CATEGORIES:Default
SUMMARY:NO REHEARSAL. 
LOCATION:
DESCRIPTION;ENCODING=QUOTED-PRINTABLE:

DTSTAMP:20260423T211605Z
DTSTART:20210811T000000Z
DTEND:20210811T045959Z
SEQUENCE:0
TRANSP:OPAQUE
END:VEVENT
END:VCALENDAR