BEGIN:VCALENDAR
VERSION:2.0
PRODID:-//jEvents 1.5 for Joomla//EN
CALSCALE:GREGORIAN
METHOD:PUBLISH
BEGIN:VEVENT

UID:a52330234864d8508ff20a7d5f1f73a5
CATEGORIES:Default
SUMMARY:No Rehearsal / Meeting
LOCATION:
DESCRIPTION;ENCODING=QUOTED-PRINTABLE:\n\nNo Rehearsal / Meeting\n

DTSTAMP:20260423T075146Z
DTSTART:20211124T010000Z
DTEND:20211124T055959Z
SEQUENCE:0
TRANSP:OPAQUE
END:VEVENT
END:VCALENDAR