BEGIN:VCALENDAR
VERSION:2.0
PRODID:-//jEvents 1.5 for Joomla//EN
CALSCALE:GREGORIAN
METHOD:PUBLISH
BEGIN:VEVENT

UID:477864f8fbfdd7c7e710e96df9f38c0f
CATEGORIES:Default
SUMMARY:SingOut Scenic Hills
LOCATION:
DESCRIPTION;ENCODING=QUOTED-PRINTABLE:<p>Scenic Hills Community Center</p><p>Guests welcome - call for address</p
 >

DTSTAMP:20260423T073722Z
DTSTART:20211207T233000Z
DTEND:20211208T055959Z
SEQUENCE:0
TRANSP:OPAQUE
END:VEVENT
END:VCALENDAR