BEGIN:VCALENDAR
VERSION:2.0
PRODID:-//jEvents 1.5 for Joomla//EN
CALSCALE:GREGORIAN
METHOD:PUBLISH
BEGIN:VEVENT

UID:a6979271a1da5f11e247b64a79450851
CATEGORIES:Default
SUMMARY:Rehearsal/Chapter Mtg
LOCATION:1st Protestant Church
DESCRIPTION;ENCODING=QUOTED-PRINTABLE:
CONTACT:830-507-3281

DTSTAMP:20260422T225209Z
DTSTART:20220126T010000Z
DTEND:20220126T023000Z
SEQUENCE:0
RRULE:FREQ=WEEKLY;UNTIL=20221220T235959Z;INTERVAL=1;BYDAY=TU
EXDATE:20220914T000000Z,20221116T010000Z,20221207T010000Z,20221214T010000Z,2022122
 1T010000Z
TRANSP:OPAQUE
END:VEVENT
END:VCALENDAR