BEGIN:VCALENDAR
VERSION:2.0
PRODID:-//jEvents 1.5 for Joomla//EN
CALSCALE:GREGORIAN
METHOD:PUBLISH
BEGIN:VEVENT

UID:74cee49f3824588fcd3d21ee7f8361a2
CATEGORIES:Default
SUMMARY:Singout - Gruene Sr Living
LOCATION:1820 CommonSt. 78130
DESCRIPTION;ENCODING=QUOTED-PRINTABLE:<p>The HCC performs at Gruene Sr. Living at 6:00pm.</p>
CONTACT:830-507-3281

DTSTAMP:20260422T173809Z
DTSTART:20220913T223000Z
DTEND:20220914T045959Z
SEQUENCE:0
TRANSP:OPAQUE
END:VEVENT
END:VCALENDAR