BEGIN:VCALENDAR
VERSION:2.0
PRODID:-//jEvents 1.5 for Joomla//EN
CALSCALE:GREGORIAN
METHOD:PUBLISH
BEGIN:VEVENT

UID:347ebcc693dc3a09fc8661c7e9e9cb7c
CATEGORIES:Default
SUMMARY:Performance
LOCATION:1190 Gruene Rd. 78130
DESCRIPTION;ENCODING=QUOTED-PRINTABLE:\n\n2022 Festival of Trees\n\n\nVilla At Gruene Event Center\n
CONTACT:830-507-3281

DTSTAMP:20260422T140449Z
DTSTART:20221116T010000Z
DTEND:20221116T020000Z
SEQUENCE:0
TRANSP:OPAQUE
END:VEVENT
END:VCALENDAR