BEGIN:VCALENDAR
VERSION:2.0
PRODID:-//jEvents 1.5 for Joomla//EN
CALSCALE:GREGORIAN
METHOD:PUBLISH
BEGIN:VEVENT

UID:0f64014055e29a549acbfc82b7573f1c
CATEGORIES:Default
SUMMARY:Performance
LOCATION:1820 Common St. 78130
DESCRIPTION;ENCODING=QUOTED-PRINTABLE:<p>Sing-Out / Christmas Carols</p><p>Gruene Sr Living</p>
CONTACT:830-507-3281

DTSTAMP:20260422T123411Z
DTSTART:20221207T000000Z
DTEND:20221207T010000Z
SEQUENCE:0
TRANSP:OPAQUE
END:VEVENT
END:VCALENDAR