BEGIN:VCALENDAR
VERSION:2.0
PRODID:-//jEvents 1.5 for Joomla//EN
CALSCALE:GREGORIAN
METHOD:PUBLISH
BEGIN:VEVENT

UID:2a8b05ab677aff532c26fb022b4b30b7
CATEGORIES:Default
SUMMARY:Performance - Revised
LOCATION:3411 Paesanos Parkway 78231
DESCRIPTION;ENCODING=QUOTED-PRINTABLE:\n\nSing-out  / Christmas Carols\n\n\nSodalis Stone Oak\n\n\n \n
CONTACT:830-507-3281

DTSTAMP:20260422T123018Z
DTSTART:20221214T000000Z
DTEND:20221214T003000Z
SEQUENCE:0
TRANSP:OPAQUE
END:VEVENT
END:VCALENDAR