BEGIN:VCALENDAR
VERSION:2.0
PRODID:-//jEvents 1.5 for Joomla//EN
CALSCALE:GREGORIAN
METHOD:PUBLISH
BEGIN:VEVENT

UID:e4dfac12b6aa5dad4d02908d0ab56f4e
CATEGORIES:Default
SUMMARY:Performance New
LOCATION:575 Knights Cross Dr 78258
DESCRIPTION;ENCODING=QUOTED-PRINTABLE:<p>Christmas Singout - The Haven and The Laurels</p><p> </p><p>A visit with
  Roy and Christina Gant.</p>
CONTACT:830-507-3281

DTSTAMP:20260422T123433Z
DTSTART:20221214T010000Z
DTEND:20221214T020000Z
SEQUENCE:0
TRANSP:OPAQUE
END:VEVENT
END:VCALENDAR