BEGIN:VCALENDAR
VERSION:2.0
PRODID:-//jEvents 1.5 for Joomla//EN
CALSCALE:GREGORIAN
METHOD:PUBLISH
BEGIN:VEVENT

UID:bf5d6b198b14e9ae5f15e31ecc116dd7
CATEGORIES:Default
SUMMARY:Performance (Revise)
LOCATION:4820 Scenic Dr. 78108
DESCRIPTION;ENCODING=QUOTED-PRINTABLE:<p>Christmas Singout at Scenic Hills Community Assoc.</p><p> </p><p>Note ne
 w time!</p><p> </p><p>With guest quartet: Counterpoint</p>
CONTACT:830-507-3281

DTSTAMP:20260422T123304Z
DTSTART:20221221T003000Z
DTEND:20221221T013000Z
SEQUENCE:0
TRANSP:OPAQUE
END:VEVENT
END:VCALENDAR