BEGIN:VCALENDAR
VERSION:2.0
PRODID:-//jEvents 1.5 for Joomla//EN
CALSCALE:GREGORIAN
METHOD:PUBLISH
BEGIN:VEVENT

UID:f96afdd3632c938b8211f049ad4c685c
CATEGORIES:Default
SUMMARY:No Rehearsal
LOCATION:
DESCRIPTION;ENCODING=QUOTED-PRINTABLE:
CONTACT:830-507-3281

DTSTAMP:20260422T123305Z
DTSTART:20221228T010000Z
DTEND:20221228T023000Z
SEQUENCE:0
TRANSP:OPAQUE
END:VEVENT
END:VCALENDAR