BEGIN:VCALENDAR
VERSION:2.0
PRODID:-//jEvents 1.5 for Joomla//EN
CALSCALE:GREGORIAN
METHOD:PUBLISH
BEGIN:VEVENT

UID:8a0107253ec079d9729b58b97a495e97
CATEGORIES:Default
SUMMARY:Meeting / Rehearsal
LOCATION:172 W Coll St 78130
DESCRIPTION;ENCODING=QUOTED-PRINTABLE:<p>Chapter Meeting and Chorus Rehearsal</p><p> </p><p>1st Protestant Church
  - 2nd floor choir room</p>
CONTACT:830-507-3281

DTSTAMP:20260420T032134Z
DTSTART:20230104T010000Z
DTEND:20230104T023000Z
SEQUENCE:0
RRULE:FREQ=WEEKLY;COUNT=52;INTERVAL=1;BYDAY=TU
EXDATE:20230614T000000Z,20230705T000000Z,20230719T000000Z,20230913T000000Z,2023110
 1T000000Z,20231115T010000Z,20231213T010000Z,20231227T010000Z,20231220T01000
 0Z,20231122T010000Z,20231206T010000Z
TRANSP:OPAQUE
END:VEVENT
END:VCALENDAR