BEGIN:VCALENDAR
VERSION:2.0
PRODID:-//jEvents 1.5 for Joomla//EN
CALSCALE:GREGORIAN
METHOD:PUBLISH
BEGIN:VEVENT

UID:e074dceb2a57e488b45bf2c0a7f07745
CATEGORIES:Default
SUMMARY:Performance
LOCATION:1820 E Common St. 78130
DESCRIPTION;ENCODING=QUOTED-PRINTABLE:<p> Gruene Sr Living</p>
CONTACT:830-507-3281

DTSTAMP:20260422T123310Z
DTSTART:20230613T223000Z
DTEND:20230614T000000Z
SEQUENCE:0
TRANSP:OPAQUE
END:VEVENT
END:VCALENDAR