BEGIN:VCALENDAR
VERSION:2.0
PRODID:-//jEvents 1.5 for Joomla//EN
CALSCALE:GREGORIAN
METHOD:PUBLISH
BEGIN:VEVENT

UID:20b9ca906ba26a9559dc1ede2da21d77
CATEGORIES:Default
SUMMARY:No Rehearsal
LOCATION:
DESCRIPTION;ENCODING=QUOTED-PRINTABLE:\n\nHappy Fourth of July!\n

DTSTAMP:20260422T140330Z
DTSTART:20230704T130000Z
DTEND:20230704T220000Z
SEQUENCE:0
TRANSP:OPAQUE
END:VEVENT
END:VCALENDAR