BEGIN:VCALENDAR
VERSION:2.0
PRODID:-//jEvents 1.5 for Joomla//EN
CALSCALE:GREGORIAN
METHOD:PUBLISH
BEGIN:VEVENT

UID:e37d7d5f380c7af5357cd60f7b522088
CATEGORIES:Default
SUMMARY:No Meeting/Rehearsal
LOCATION:
DESCRIPTION;ENCODING=QUOTED-PRINTABLE:<p>No Meeting</p>
CONTACT:830-507-3281

DTSTAMP:20260422T140812Z
DTSTART:20230719T000000Z
DTEND:20230719T020000Z
SEQUENCE:0
TRANSP:OPAQUE
END:VEVENT
END:VCALENDAR