BEGIN:VCALENDAR
VERSION:2.0
PRODID:-//jEvents 1.5 for Joomla//EN
CALSCALE:GREGORIAN
METHOD:PUBLISH
BEGIN:VEVENT

UID:dde1584fc299ad488ed8588e561e6b50
CATEGORIES:Default
SUMMARY:Performance - The Blake
LOCATION:220 Creekside Crossing 78130
DESCRIPTION;ENCODING=QUOTED-PRINTABLE:<p>Singout at The Blake Community.</p>
CONTACT:830-507-3281

DTSTAMP:20260422T201032Z
DTSTART:20230912T223000Z
DTEND:20230913T000000Z
SEQUENCE:0
TRANSP:OPAQUE
END:VEVENT
END:VCALENDAR