BEGIN:VCALENDAR
VERSION:2.0
PRODID:-//jEvents 1.5 for Joomla//EN
CALSCALE:GREGORIAN
METHOD:PUBLISH
BEGIN:VEVENT

UID:e917fa7710c8b6c090a957eca9bd01cb
CATEGORIES:Default
SUMMARY:No Meeting
LOCATION:
DESCRIPTION;ENCODING=QUOTED-PRINTABLE:\n\nNo Meeting/Rehearsal\n
CONTACT:830-507-3281

DTSTAMP:20260422T191718Z
DTSTART:20231031
DTEND:20231031
SEQUENCE:0
TRANSP:OPAQUE
END:VEVENT
END:VCALENDAR