BEGIN:VCALENDAR
VERSION:2.0
PRODID:-//jEvents 1.5 for Joomla//EN
CALSCALE:GREGORIAN
METHOD:PUBLISH
BEGIN:VEVENT

UID:8eea9cd0a912b80fa09dc08f75c22342
CATEGORIES:Default
SUMMARY:Performance
LOCATION:Festival Of Trees 2023
DESCRIPTION;ENCODING=QUOTED-PRINTABLE:\n\nChristmas Caroling at The Festival of Trees\n
CONTACT:830-507-3281
X-EXTRAINFO:Villa at Gruene1190 Gruene Rd. 78130
DTSTAMP:20260423T045932Z
DTSTART:20231115T010000Z
DTEND:20231115T020000Z
SEQUENCE:0
TRANSP:OPAQUE
END:VEVENT
END:VCALENDAR