BEGIN:VCALENDAR
VERSION:2.0
PRODID:-//jEvents 1.5 for Joomla//EN
CALSCALE:GREGORIAN
METHOD:PUBLISH
BEGIN:VEVENT

UID:81440f297d758758a3c2be32f1ccecc7
CATEGORIES:Default
SUMMARY:Meeting/Rehearsal
LOCATION:Choir Room
DESCRIPTION;ENCODING=QUOTED-PRINTABLE:\n\nChapter Meeting and Chorus Rehearsal\n
CONTACT:830-507-3281
X-EXTRAINFO:First Protestant Church172 Coll St. 78130
DTSTAMP:20260422T221327Z
DTSTART:20240110T010000Z
DTEND:20240110T030000Z
SEQUENCE:0
RRULE:FREQ=WEEKLY;UNTIL=20241217T235959Z;INTERVAL=1;BYDAY=TU
EXDATE:20240103T010000Z,20240214T010000Z,20240313T000000Z,20240410T000000Z,2024120
 4T010000Z,20241211T010000Z,20241218T010000Z
TRANSP:OPAQUE
END:VEVENT
END:VCALENDAR