BEGIN:VCALENDAR
VERSION:2.0
PRODID:-//jEvents 1.5 for Joomla//EN
CALSCALE:GREGORIAN
METHOD:PUBLISH
BEGIN:VEVENT

UID:2df1a68b51ade052dbd2b2325fa032d1
CATEGORIES:Default
SUMMARY:No Meeting
LOCATION:
DESCRIPTION;ENCODING=QUOTED-PRINTABLE:<p>No meeting/rehearsal</p>
CONTACT:830-507-3281

DTSTAMP:20260422T235932Z
DTSTART:20231121
DTEND:20231121
SEQUENCE:0
TRANSP:OPAQUE
END:VEVENT
END:VCALENDAR