BEGIN:VCALENDAR
VERSION:2.0
PRODID:-//jEvents 1.5 for Joomla//EN
CALSCALE:GREGORIAN
METHOD:PUBLISH
BEGIN:VEVENT

UID:f8dd192db181ae28f6fc3319c8a9f084
CATEGORIES:Default
SUMMARY:No meeting
LOCATION:
DESCRIPTION;ENCODING=QUOTED-PRINTABLE:

DTSTAMP:20260423T052539Z
DTSTART:20240102
DTEND:20240102
SEQUENCE:0
TRANSP:OPAQUE
END:VEVENT
END:VCALENDAR