BEGIN:VCALENDAR
VERSION:2.0
PRODID:-//jEvents 1.5 for Joomla//EN
CALSCALE:GREGORIAN
METHOD:PUBLISH
BEGIN:VEVENT

UID:02d3e724b3bfe0e1b3a3c0c84ac0f49d
CATEGORIES:Default
SUMMARY:Performance 
LOCATION:220 Creekside Crossing, 78130
DESCRIPTION;ENCODING=QUOTED-PRINTABLE:<p>Valentine's Sing-Out 6:00pm at The Blake Community</p>
CONTACT:830-507-3281

DTSTAMP:20260423T091330Z
DTSTART:20240213T233000Z
DTEND:20240214T010000Z
SEQUENCE:0
TRANSP:OPAQUE
END:VEVENT
END:VCALENDAR