BEGIN:VCALENDAR
VERSION:2.0
PRODID:-//jEvents 1.5 for Joomla//EN
CALSCALE:GREGORIAN
METHOD:PUBLISH
BEGIN:VEVENT

UID:67c2af16f0a9c6a57faf0919586bd422
CATEGORIES:Default
SUMMARY:No Meeting/Rehearsal
LOCATION:
DESCRIPTION;ENCODING=QUOTED-PRINTABLE:<p>No meeting / rehearsal.</p>
CONTACT:830-507-3281

DTSTAMP:20260422T230432Z
DTSTART:20240312
DTEND:20240312
SEQUENCE:0
TRANSP:OPAQUE
END:VEVENT
END:VCALENDAR