BEGIN:VCALENDAR
VERSION:2.0
PRODID:-//jEvents 1.5 for Joomla//EN
CALSCALE:GREGORIAN
METHOD:PUBLISH
BEGIN:VEVENT

UID:fe64866b628f1257c8ddded4f6c2c4c2
CATEGORIES:Default
SUMMARY:Performance 
LOCATION:220 Creekside Crossing, 78130
DESCRIPTION;ENCODING=QUOTED-PRINTABLE:\n\nSing-Out 6:00pm at The Blake Community\n
CONTACT:830-507-3281

DTSTAMP:20260422T231320Z
DTSTART:20240409T223000Z
DTEND:20240410T000000Z
SEQUENCE:0
TRANSP:OPAQUE
END:VEVENT
END:VCALENDAR