BEGIN:VCALENDAR
VERSION:2.0
PRODID:-//jEvents 1.5 for Joomla//EN
CALSCALE:GREGORIAN
METHOD:PUBLISH
BEGIN:VEVENT

UID:2dab156359df8c53ba976d8b31228348
CATEGORIES:Default
SUMMARY:Chapter Meeting & Rehearsal
LOCATION:1st Protestant Church
DESCRIPTION;ENCODING=QUOTED-PRINTABLE:
CONTACT:830-507-3281

DTSTAMP:20260423T062511Z
DTSTART:20211222T010000Z
DTEND:20211222T023000Z
SEQUENCE:0
TRANSP:OPAQUE
END:VEVENT
END:VCALENDAR