BEGIN:VCALENDAR
VERSION:2.0
PRODID:-//jEvents 1.5 for Joomla//EN
CALSCALE:GREGORIAN
METHOD:PUBLISH
BEGIN:VEVENT

UID:a6979271a1da5f11e247b64a79450851
CATEGORIES:Default
SUMMARY:Rehearsal/Chapter Mtg
LOCATION:1st Protestant Church
DESCRIPTION;ENCODING=QUOTED-PRINTABLE:
CONTACT:830-507-3281

DTSTAMP:20260422T225931Z
DTSTART:20220511T000000Z
DTEND:20220511T013000Z
SEQUENCE:0
TRANSP:OPAQUE
END:VEVENT
END:VCALENDAR