BEGIN:VCALENDAR
VERSION:2.0
PRODID:-//jEvents 1.5 for Joomla//EN
CALSCALE:GREGORIAN
METHOD:PUBLISH
BEGIN:VEVENT

UID:8a0107253ec079d9729b58b97a495e97
CATEGORIES:Default
SUMMARY:Meeting / Rehearsal
LOCATION:172 W Coll St 78130
DESCRIPTION;ENCODING=QUOTED-PRINTABLE:\n\nChapter Meeting and Chorus Rehearsal\n\n\n \n\n\n1st Protestant Church 
 - 2nd floor choir room\n
CONTACT:830-507-3281

DTSTAMP:20260420T031808Z
DTSTART:20230111T010000Z
DTEND:20230111T023000Z
SEQUENCE:0
TRANSP:OPAQUE
END:VEVENT
END:VCALENDAR