BEGIN:VCALENDAR
VERSION:2.0
PRODID:-//jEvents 1.5 for Joomla//EN
CALSCALE:GREGORIAN
METHOD:PUBLISH
BEGIN:VEVENT

UID:8a0107253ec079d9729b58b97a495e97
CATEGORIES:Default
SUMMARY:Meeting / Rehearsal
LOCATION:172 W Coll St 78130
DESCRIPTION;ENCODING=QUOTED-PRINTABLE:<p>Chapter Meeting and Chorus Rehearsal</p><p> </p><p>1st Protestant Church
  - 2nd floor choir room</p>
CONTACT:830-507-3281

DTSTAMP:20260420T031954Z
DTSTART:20230208T010000Z
DTEND:20230208T023000Z
SEQUENCE:0
TRANSP:OPAQUE
END:VEVENT
END:VCALENDAR