BEGIN:VCALENDAR
VERSION:2.0
PRODID:-//jEvents 1.5 for Joomla//EN
CALSCALE:GREGORIAN
METHOD:PUBLISH
BEGIN:VEVENT

UID:81440f297d758758a3c2be32f1ccecc7
CATEGORIES:Default
SUMMARY:Meeting/Rehearsal
LOCATION:Choir Room
DESCRIPTION;ENCODING=QUOTED-PRINTABLE:\n\nChapter Meeting and Chorus Rehearsal\n
CONTACT:830-507-3281
X-EXTRAINFO:First Protestant Church172 Coll St. 78130
DTSTAMP:20260422T224749Z
DTSTART:20240508T000000Z
DTEND:20240508T020000Z
SEQUENCE:0
TRANSP:OPAQUE
END:VEVENT
END:VCALENDAR